BEGIN:VCALENDAR
VERSION:2.0
PRODID:-//jEvents 2.0 for Joomla//EN
CALSCALE:GREGORIAN
METHOD:PUBLISH
BEGIN:VTIMEZONE
TZID:Europe/Berlin
BEGIN:STANDARD
DTSTART:20201025T020000
RDATE:20210328T030000
TZOFFSETFROM:+0200
TZOFFSETTO:+0100
TZNAME:Europe/Berlin CET
END:STANDARD
BEGIN:STANDARD
DTSTART:20211031T020000
RDATE:20220327T030000
TZOFFSETFROM:+0200
TZOFFSETTO:+0100
TZNAME:Europe/Berlin CET
END:STANDARD
BEGIN:STANDARD
DTSTART:20221030T020000
RDATE:20230326T030000
TZOFFSETFROM:+0200
TZOFFSETTO:+0100
TZNAME:Europe/Berlin CET
END:STANDARD
BEGIN:STANDARD
DTSTART:20231029T020000
RDATE:20240331T030000
TZOFFSETFROM:+0200
TZOFFSETTO:+0100
TZNAME:Europe/Berlin CET
END:STANDARD
BEGIN:STANDARD
DTSTART:20241027T020000
RDATE:20250330T030000
TZOFFSETFROM:+0200
TZOFFSETTO:+0100
TZNAME:Europe/Berlin CET
END:STANDARD
BEGIN:STANDARD
DTSTART:20251026T020000
RDATE:20260329T030000
TZOFFSETFROM:+0200
TZOFFSETTO:+0100
TZNAME:Europe/Berlin CET
END:STANDARD
BEGIN:STANDARD
DTSTART:20261025T020000
RDATE:20270328T030000
TZOFFSETFROM:+0200
TZOFFSETTO:+0100
TZNAME:Europe/Berlin CET
END:STANDARD
BEGIN:STANDARD
DTSTART:20271031T020000
RDATE:20280326T030000
TZOFFSETFROM:+0200
TZOFFSETTO:+0100
TZNAME:Europe/Berlin CET
END:STANDARD
BEGIN:DAYLIGHT
DTSTART:20200820T090000
RDATE:20201025T020000
TZOFFSETFROM:+0100
TZOFFSETTO:+0200
TZNAME:Europe/Berlin CEST
END:DAYLIGHT
BEGIN:DAYLIGHT
DTSTART:20210328T030000
RDATE:20211031T020000
TZOFFSETFROM:+0100
TZOFFSETTO:+0200
TZNAME:Europe/Berlin CEST
END:DAYLIGHT
BEGIN:DAYLIGHT
DTSTART:20220327T030000
RDATE:20221030T020000
TZOFFSETFROM:+0100
TZOFFSETTO:+0200
TZNAME:Europe/Berlin CEST
END:DAYLIGHT
BEGIN:DAYLIGHT
DTSTART:20230326T030000
RDATE:20231029T020000
TZOFFSETFROM:+0100
TZOFFSETTO:+0200
TZNAME:Europe/Berlin CEST
END:DAYLIGHT
BEGIN:DAYLIGHT
DTSTART:20240331T030000
RDATE:20241027T020000
TZOFFSETFROM:+0100
TZOFFSETTO:+0200
TZNAME:Europe/Berlin CEST
END:DAYLIGHT
BEGIN:DAYLIGHT
DTSTART:20250330T030000
RDATE:20251026T020000
TZOFFSETFROM:+0100
TZOFFSETTO:+0200
TZNAME:Europe/Berlin CEST
END:DAYLIGHT
BEGIN:DAYLIGHT
DTSTART:20260329T030000
RDATE:20261025T020000
TZOFFSETFROM:+0100
TZOFFSETTO:+0200
TZNAME:Europe/Berlin CEST
END:DAYLIGHT
BEGIN:DAYLIGHT
DTSTART:20270328T030000
RDATE:20271031T020000
TZOFFSETFROM:+0100
TZOFFSETTO:+0200
TZNAME:Europe/Berlin CEST
END:DAYLIGHT
END:VTIMEZONE
BEGIN:VEVENT
UID:3a65acf74ea90a7b6237e84e2d802736
CATEGORIES:Vereinstermin
CREATED:20210818T101104
SUMMARY:Arbeitsdienst Bootshaus
LOCATION:Bootshaus
DESCRIPTION:Arbeitsdienst am Bootshaus in Lübeck.\nFür Teilnahme bitte anmelden unter D
 iese E-Mail-Adresse ist vor Spambots geschützt! Zur Anzeige muss JavaScript
  eingeschaltet sein!
				document.getElementById('cloakd731baa658b77ea118df
 f06fe720f0db').innerHTML = '';
				var prefix = '&#109;a' + 'i&#108;' + '&#
 116;o';
				var path = 'hr' + 'ef' + '=';
				var addyd731baa658b77ea118dff
 06fe720f0db = 'v&#111;rst&#97;nd' + '&#64;';
				addyd731baa658b77ea118dff0
 6fe720f0db = addyd731baa658b77ea118dff06fe720f0db + 'lkv-l&#117;&#101;b&#10
 1;ck' + '&#46;' + 'd&#101;';
				var addy_textd731baa658b77ea118dff06fe720f
 0db = 'v&#111;rst&#97;nd' + '&#64;' + 'lkv-l&#117;&#101;b&#101;ck' + '&#46;
 ' + 'd&#101;';document.getElementById('cloakd731baa658b77ea118dff06fe720f0d
 b').innerHTML += '<a ' + path + '\'' + prefix + ':' + addyd731baa658b77ea11
 8dff06fe720f0db + '\'>'+addy_textd731baa658b77ea118dff06fe720f0db+'';
		\n
X-ALT-DESC;FMTTYPE=text/html:<p>Arbeitsdienst am Bootshaus in Lübeck.<br />Für Teilnahme bitte anmelden 
 unter <span id="cloakd731baa658b77ea118dff06fe720f0db">Diese E-Mail-Adresse
  ist vor Spambots geschützt! Zur Anzeige muss JavaScript eingeschaltet sein
 !</span><script type='text/javascript'>
				document.getElementById('cloakd
 731baa658b77ea118dff06fe720f0db').innerHTML = '';
				var prefix = '&#109;a
 ' + 'i&#108;' + '&#116;o';
				var path = 'hr' + 'ef' + '=';
				var addyd7
 31baa658b77ea118dff06fe720f0db = 'v&#111;rst&#97;nd' + '&#64;';
				addyd73
 1baa658b77ea118dff06fe720f0db = addyd731baa658b77ea118dff06fe720f0db + 'lkv
 -l&#117;&#101;b&#101;ck' + '&#46;' + 'd&#101;';
				var addy_textd731baa658
 b77ea118dff06fe720f0db = 'v&#111;rst&#97;nd' + '&#64;' + 'lkv-l&#117;&#101;
 b&#101;ck' + '&#46;' + 'd&#101;';document.getElementById('cloakd731baa658b7
 7ea118dff06fe720f0db').innerHTML += '<a ' + path + '\'' + prefix + ':' + ad
 dyd731baa658b77ea118dff06fe720f0db + '\'>'+addy_textd731baa658b77ea118dff06
 fe720f0db+'<\/a>';
		</script></p>
CONTACT:Jörg Gaussing
DTSTAMP:20260424T125206Z
DTSTART;TZID=Europe/Berlin:20210821T090000
DTEND;TZID=Europe/Berlin:20210821T130000
SEQUENCE:0
TRANSP:OPAQUE
END:VEVENT
END:VCALENDAR