BEGIN:VCALENDAR
VERSION:2.0
PRODID:-//jEvents 2.0 for Joomla//EN
CALSCALE:GREGORIAN
METHOD:PUBLISH
BEGIN:VTIMEZONE
TZID:Europe/Berlin
BEGIN:STANDARD
DTSTART:20220203T100000
RDATE:20220327T030000
TZOFFSETFROM:+0200
TZOFFSETTO:+0100
TZNAME:Europe/Berlin CET
END:STANDARD
BEGIN:STANDARD
DTSTART:20221030T020000
RDATE:20230326T030000
TZOFFSETFROM:+0200
TZOFFSETTO:+0100
TZNAME:Europe/Berlin CET
END:STANDARD
BEGIN:STANDARD
DTSTART:20231029T020000
RDATE:20240331T030000
TZOFFSETFROM:+0200
TZOFFSETTO:+0100
TZNAME:Europe/Berlin CET
END:STANDARD
BEGIN:STANDARD
DTSTART:20241027T020000
RDATE:20250330T030000
TZOFFSETFROM:+0200
TZOFFSETTO:+0100
TZNAME:Europe/Berlin CET
END:STANDARD
BEGIN:STANDARD
DTSTART:20251026T020000
RDATE:20260329T030000
TZOFFSETFROM:+0200
TZOFFSETTO:+0100
TZNAME:Europe/Berlin CET
END:STANDARD
BEGIN:STANDARD
DTSTART:20261025T020000
RDATE:20270328T030000
TZOFFSETFROM:+0200
TZOFFSETTO:+0100
TZNAME:Europe/Berlin CET
END:STANDARD
BEGIN:STANDARD
DTSTART:20271031T020000
RDATE:20280326T030000
TZOFFSETFROM:+0200
TZOFFSETTO:+0100
TZNAME:Europe/Berlin CET
END:STANDARD
BEGIN:DAYLIGHT
DTSTART:20220327T030000
RDATE:20221030T020000
TZOFFSETFROM:+0100
TZOFFSETTO:+0200
TZNAME:Europe/Berlin CEST
END:DAYLIGHT
BEGIN:DAYLIGHT
DTSTART:20230326T030000
RDATE:20231029T020000
TZOFFSETFROM:+0100
TZOFFSETTO:+0200
TZNAME:Europe/Berlin CEST
END:DAYLIGHT
BEGIN:DAYLIGHT
DTSTART:20240331T030000
RDATE:20241027T020000
TZOFFSETFROM:+0100
TZOFFSETTO:+0200
TZNAME:Europe/Berlin CEST
END:DAYLIGHT
BEGIN:DAYLIGHT
DTSTART:20250330T030000
RDATE:20251026T020000
TZOFFSETFROM:+0100
TZOFFSETTO:+0200
TZNAME:Europe/Berlin CEST
END:DAYLIGHT
BEGIN:DAYLIGHT
DTSTART:20260329T030000
RDATE:20261025T020000
TZOFFSETFROM:+0100
TZOFFSETTO:+0200
TZNAME:Europe/Berlin CEST
END:DAYLIGHT
BEGIN:DAYLIGHT
DTSTART:20270328T030000
RDATE:20271031T020000
TZOFFSETFROM:+0100
TZOFFSETTO:+0200
TZNAME:Europe/Berlin CEST
END:DAYLIGHT
END:VTIMEZONE
BEGIN:VEVENT
UID:ac14ffaaaa1514afc3d5116691d1202b
CATEGORIES:Vereinstermin
CREATED:20230130T153329
SUMMARY:Arbeitsdienst an der Brücke Sarau
LOCATION:Brücke Sarau
DESCRIPTION:"körperliche Arbeit". Anmeldung bitte bei Till Lukas Voß Diese E-Mail-Adres
 se ist vor Spambots geschützt! Zur Anzeige muss JavaScript eingeschaltet se
 in!
				document.getElementById('cloak8659d2c0320050b7233ef6b47bef5349').in
 nerHTML = '';
				var prefix = '&#109;a' + 'i&#108;' + '&#116;o';
				var p
 ath = 'hr' + 'ef' + '=';
				var addy8659d2c0320050b7233ef6b47bef5349 = 'br
 &#117;&#101;ck&#101;-s&#97;r&#97;&#117;' + '&#64;';
				addy8659d2c0320050b
 7233ef6b47bef5349 = addy8659d2c0320050b7233ef6b47bef5349 + 'lkv-l&#117;&#10
 1;b&#101;ck' + '&#46;' + 'd&#101;';
				var addy_text8659d2c0320050b7233ef6
 b47bef5349 = 'br&#117;&#101;ck&#101;-s&#97;r&#97;&#117;' + '&#64;' + 'lkv-l
 &#117;&#101;b&#101;ck' + '&#46;' + 'd&#101;';document.getElementById('cloak
 8659d2c0320050b7233ef6b47bef5349').innerHTML += '<a ' + path + '\'' + prefi
 x + ':' + addy8659d2c0320050b7233ef6b47bef5349 + '\'>'+addy_text8659d2c0320
 050b7233ef6b47bef5349+'';
		\n
X-ALT-DESC;FMTTYPE=text/html:<p>"körperliche Arbeit". Anmeldung bitte bei Till Lukas Voß <span id="cloak
 8659d2c0320050b7233ef6b47bef5349">Diese E-Mail-Adresse ist vor Spambots ges
 chützt! Zur Anzeige muss JavaScript eingeschaltet sein!</span><script type=
 'text/javascript'>
				document.getElementById('cloak8659d2c0320050b7233ef6
 b47bef5349').innerHTML = '';
				var prefix = '&#109;a' + 'i&#108;' + '&#11
 6;o';
				var path = 'hr' + 'ef' + '=';
				var addy8659d2c0320050b7233ef6b
 47bef5349 = 'br&#117;&#101;ck&#101;-s&#97;r&#97;&#117;' + '&#64;';
				addy
 8659d2c0320050b7233ef6b47bef5349 = addy8659d2c0320050b7233ef6b47bef5349 + '
 lkv-l&#117;&#101;b&#101;ck' + '&#46;' + 'd&#101;';
				var addy_text8659d2c
 0320050b7233ef6b47bef5349 = 'br&#117;&#101;ck&#101;-s&#97;r&#97;&#117;' + '
 &#64;' + 'lkv-l&#117;&#101;b&#101;ck' + '&#46;' + 'd&#101;';document.getEle
 mentById('cloak8659d2c0320050b7233ef6b47bef5349').innerHTML += '<a ' + path
  + '\'' + prefix + ':' + addy8659d2c0320050b7233ef6b47bef5349 + '\'>'+addy_
 text8659d2c0320050b7233ef6b47bef5349+'<\/a>';
		</script></p>
CONTACT:Till Lukas Voß
DTSTAMP:20260422T210852Z
DTSTART;TZID=Europe/Berlin:20230204T100000
SEQUENCE:0
TRANSP:OPAQUE
END:VEVENT
END:VCALENDAR