BEGIN:VCALENDAR
VERSION:2.0
PRODID:-//jEvents 2.0 for Joomla//EN
CALSCALE:GREGORIAN
METHOD:PUBLISH
BEGIN:VTIMEZONE
TZID:Europe/Berlin
BEGIN:STANDARD
DTSTART:20201025T020000
RDATE:20210328T030000
TZOFFSETFROM:+0200
TZOFFSETTO:+0100
TZNAME:Europe/Berlin CET
END:STANDARD
BEGIN:STANDARD
DTSTART:20211031T020000
RDATE:20220327T030000
TZOFFSETFROM:+0200
TZOFFSETTO:+0100
TZNAME:Europe/Berlin CET
END:STANDARD
BEGIN:STANDARD
DTSTART:20221030T020000
RDATE:20230326T030000
TZOFFSETFROM:+0200
TZOFFSETTO:+0100
TZNAME:Europe/Berlin CET
END:STANDARD
BEGIN:STANDARD
DTSTART:20231029T020000
RDATE:20240331T030000
TZOFFSETFROM:+0200
TZOFFSETTO:+0100
TZNAME:Europe/Berlin CET
END:STANDARD
BEGIN:STANDARD
DTSTART:20241027T020000
RDATE:20250330T030000
TZOFFSETFROM:+0200
TZOFFSETTO:+0100
TZNAME:Europe/Berlin CET
END:STANDARD
BEGIN:STANDARD
DTSTART:20251026T020000
RDATE:20260329T030000
TZOFFSETFROM:+0200
TZOFFSETTO:+0100
TZNAME:Europe/Berlin CET
END:STANDARD
BEGIN:STANDARD
DTSTART:20261025T020000
RDATE:20270328T030000
TZOFFSETFROM:+0200
TZOFFSETTO:+0100
TZNAME:Europe/Berlin CET
END:STANDARD
BEGIN:STANDARD
DTSTART:20271031T020000
RDATE:20280326T030000
TZOFFSETFROM:+0200
TZOFFSETTO:+0100
TZNAME:Europe/Berlin CET
END:STANDARD
BEGIN:DAYLIGHT
DTSTART:20200710T000000
RDATE:20201025T020000
TZOFFSETFROM:+0100
TZOFFSETTO:+0200
TZNAME:Europe/Berlin CEST
END:DAYLIGHT
BEGIN:DAYLIGHT
DTSTART:20210328T030000
RDATE:20211031T020000
TZOFFSETFROM:+0100
TZOFFSETTO:+0200
TZNAME:Europe/Berlin CEST
END:DAYLIGHT
BEGIN:DAYLIGHT
DTSTART:20220327T030000
RDATE:20221030T020000
TZOFFSETFROM:+0100
TZOFFSETTO:+0200
TZNAME:Europe/Berlin CEST
END:DAYLIGHT
BEGIN:DAYLIGHT
DTSTART:20230326T030000
RDATE:20231029T020000
TZOFFSETFROM:+0100
TZOFFSETTO:+0200
TZNAME:Europe/Berlin CEST
END:DAYLIGHT
BEGIN:DAYLIGHT
DTSTART:20240331T030000
RDATE:20241027T020000
TZOFFSETFROM:+0100
TZOFFSETTO:+0200
TZNAME:Europe/Berlin CEST
END:DAYLIGHT
BEGIN:DAYLIGHT
DTSTART:20250330T030000
RDATE:20251026T020000
TZOFFSETFROM:+0100
TZOFFSETTO:+0200
TZNAME:Europe/Berlin CEST
END:DAYLIGHT
BEGIN:DAYLIGHT
DTSTART:20260329T030000
RDATE:20261025T020000
TZOFFSETFROM:+0100
TZOFFSETTO:+0200
TZNAME:Europe/Berlin CEST
END:DAYLIGHT
BEGIN:DAYLIGHT
DTSTART:20270328T030000
RDATE:20271031T020000
TZOFFSETFROM:+0100
TZOFFSETTO:+0200
TZNAME:Europe/Berlin CEST
END:DAYLIGHT
END:VTIMEZONE
BEGIN:VEVENT
UID:dd1177939032ad5b23497ca1dea1b822
CATEGORIES:Sailkids
CREATED:20210331T114025
SUMMARY:Hollandfahrt der Sailkids auf dem Ijsselmeer
LOCATION:Ijsselmeer
DESCRIPTION:Auch in diesem Jahr planen wir (vorausgesetzt Corona läßt es zu) eine Fahrt
  auf dem Ijsselmeer mit der "Strijd". Diesmal für eine ganze Woche.\nAnmeld
 ungen bitte an Diese E-Mail-Adresse ist vor Spambots geschützt! Zur Anzeige
  muss JavaScript eingeschaltet sein!
				document.getElementById('cloak65fa
 3030bb7885d9a1cc448bb351a4f3').innerHTML = '';
				var prefix = '&#109;a' +
  'i&#108;' + '&#116;o';
				var path = 'hr' + 'ef' + '=';
				var addy65fa3
 030bb7885d9a1cc448bb351a4f3 = 'j&#117;g&#101;nds&#101;g&#101;ln' + '&#64;';
 
				addy65fa3030bb7885d9a1cc448bb351a4f3 = addy65fa3030bb7885d9a1cc448bb35
 1a4f3 + 'lkv-l&#117;&#101;b&#101;ck' + '&#46;' + 'd&#101;';
				var addy_te
 xt65fa3030bb7885d9a1cc448bb351a4f3 = 'j&#117;g&#101;nds&#101;g&#101;ln' + '
 &#64;' + 'lkv-l&#117;&#101;b&#101;ck' + '&#46;' + 'd&#101;';document.getEle
 mentById('cloak65fa3030bb7885d9a1cc448bb351a4f3').innerHTML += '<a ' + path
  + '\'' + prefix + ':' + addy65fa3030bb7885d9a1cc448bb351a4f3 + '\'>'+addy_
 text65fa3030bb7885d9a1cc448bb351a4f3+'';
		\n \n
X-ALT-DESC;FMTTYPE=text/html:<p>Auch in diesem Jahr planen wir (vorausgesetzt Corona läßt es zu) eine Fa
 hrt auf dem Ijsselmeer mit der "Strijd". Diesmal für eine ganze Woche.</p><
 p>Anmeldungen bitte an <span id="cloak65fa3030bb7885d9a1cc448bb351a4f3">Die
 se E-Mail-Adresse ist vor Spambots geschützt! Zur Anzeige muss JavaScript e
 ingeschaltet sein!</span><script type='text/javascript'>
				document.getEl
 ementById('cloak65fa3030bb7885d9a1cc448bb351a4f3').innerHTML = '';
				var 
 prefix = '&#109;a' + 'i&#108;' + '&#116;o';
				var path = 'hr' + 'ef' + '=
 ';
				var addy65fa3030bb7885d9a1cc448bb351a4f3 = 'j&#117;g&#101;nds&#101;g
 &#101;ln' + '&#64;';
				addy65fa3030bb7885d9a1cc448bb351a4f3 = addy65fa303
 0bb7885d9a1cc448bb351a4f3 + 'lkv-l&#117;&#101;b&#101;ck' + '&#46;' + 'd&#10
 1;';
				var addy_text65fa3030bb7885d9a1cc448bb351a4f3 = 'j&#117;g&#101;nds
 &#101;g&#101;ln' + '&#64;' + 'lkv-l&#117;&#101;b&#101;ck' + '&#46;' + 'd&#1
 01;';document.getElementById('cloak65fa3030bb7885d9a1cc448bb351a4f3').inner
 HTML += '<a ' + path + '\'' + prefix + ':' + addy65fa3030bb7885d9a1cc448bb3
 51a4f3 + '\'>'+addy_text65fa3030bb7885d9a1cc448bb351a4f3+'<\/a>';
		</scrip
 t></p><p> </p>
CONTACT:Thomas Wilms
DTSTAMP:20260424T022533Z
DTSTART;TZID=Europe/Berlin;VALUE=DATE:20210711
DTEND;TZID=Europe/Berlin;VALUE=DATE:20210719
SEQUENCE:0
TRANSP:OPAQUE
END:VEVENT
END:VCALENDAR