BEGIN:VCALENDAR
VERSION:2.0
PRODID:-//jEvents 2.0 for Joomla//EN
CALSCALE:GREGORIAN
METHOD:PUBLISH
BEGIN:VTIMEZONE
TZID:Europe/Berlin
BEGIN:STANDARD
DTSTART:20201025T020000
RDATE:20210328T030000
TZOFFSETFROM:+0200
TZOFFSETTO:+0100
TZNAME:Europe/Berlin CET
END:STANDARD
BEGIN:STANDARD
DTSTART:20211031T020000
RDATE:20220327T030000
TZOFFSETFROM:+0200
TZOFFSETTO:+0100
TZNAME:Europe/Berlin CET
END:STANDARD
BEGIN:STANDARD
DTSTART:20221030T020000
RDATE:20230326T030000
TZOFFSETFROM:+0200
TZOFFSETTO:+0100
TZNAME:Europe/Berlin CET
END:STANDARD
BEGIN:STANDARD
DTSTART:20231029T020000
RDATE:20240331T030000
TZOFFSETFROM:+0200
TZOFFSETTO:+0100
TZNAME:Europe/Berlin CET
END:STANDARD
BEGIN:STANDARD
DTSTART:20241027T020000
RDATE:20250330T030000
TZOFFSETFROM:+0200
TZOFFSETTO:+0100
TZNAME:Europe/Berlin CET
END:STANDARD
BEGIN:STANDARD
DTSTART:20251026T020000
RDATE:20260329T030000
TZOFFSETFROM:+0200
TZOFFSETTO:+0100
TZNAME:Europe/Berlin CET
END:STANDARD
BEGIN:STANDARD
DTSTART:20261025T020000
RDATE:20270328T030000
TZOFFSETFROM:+0200
TZOFFSETTO:+0100
TZNAME:Europe/Berlin CET
END:STANDARD
BEGIN:STANDARD
DTSTART:20271031T020000
RDATE:20280326T030000
TZOFFSETFROM:+0200
TZOFFSETTO:+0100
TZNAME:Europe/Berlin CET
END:STANDARD
BEGIN:DAYLIGHT
DTSTART:20200827T090000
RDATE:20201025T020000
TZOFFSETFROM:+0100
TZOFFSETTO:+0200
TZNAME:Europe/Berlin CEST
END:DAYLIGHT
BEGIN:DAYLIGHT
DTSTART:20210328T030000
RDATE:20211031T020000
TZOFFSETFROM:+0100
TZOFFSETTO:+0200
TZNAME:Europe/Berlin CEST
END:DAYLIGHT
BEGIN:DAYLIGHT
DTSTART:20220327T030000
RDATE:20221030T020000
TZOFFSETFROM:+0100
TZOFFSETTO:+0200
TZNAME:Europe/Berlin CEST
END:DAYLIGHT
BEGIN:DAYLIGHT
DTSTART:20230326T030000
RDATE:20231029T020000
TZOFFSETFROM:+0100
TZOFFSETTO:+0200
TZNAME:Europe/Berlin CEST
END:DAYLIGHT
BEGIN:DAYLIGHT
DTSTART:20240331T030000
RDATE:20241027T020000
TZOFFSETFROM:+0100
TZOFFSETTO:+0200
TZNAME:Europe/Berlin CEST
END:DAYLIGHT
BEGIN:DAYLIGHT
DTSTART:20250330T030000
RDATE:20251026T020000
TZOFFSETFROM:+0100
TZOFFSETTO:+0200
TZNAME:Europe/Berlin CEST
END:DAYLIGHT
BEGIN:DAYLIGHT
DTSTART:20260329T030000
RDATE:20261025T020000
TZOFFSETFROM:+0100
TZOFFSETTO:+0200
TZNAME:Europe/Berlin CEST
END:DAYLIGHT
BEGIN:DAYLIGHT
DTSTART:20270328T030000
RDATE:20271031T020000
TZOFFSETFROM:+0100
TZOFFSETTO:+0200
TZNAME:Europe/Berlin CEST
END:DAYLIGHT
END:VTIMEZONE
BEGIN:VEVENT
UID:73707989d56254db149d131beb53a2bd
CATEGORIES:Vereinstermin
CREATED:20210824T163120
SUMMARY:Arbeitsdienst am Bootshaus
LOCATION:Bootshaus
DESCRIPTION:Baum- und Strauchschnittarbeiten\nbitte anmelden unter Diese E-Mail-Adresse
  ist vor Spambots geschützt! Zur Anzeige muss JavaScript eingeschaltet sein
 !
				document.getElementById('cloaka0b398c5db23e7d9d7e79fc9207cc1e2').inne
 rHTML = '';
				var prefix = '&#109;a' + 'i&#108;' + '&#116;o';
				var pat
 h = 'hr' + 'ef' + '=';
				var addya0b398c5db23e7d9d7e79fc9207cc1e2 = 'v&#1
 11;rst&#97;nd' + '&#64;';
				addya0b398c5db23e7d9d7e79fc9207cc1e2 = addya0
 b398c5db23e7d9d7e79fc9207cc1e2 + 'lkv-l&#117;&#101;b&#101;ck' + '&#46;' + '
 d&#101;';
				var addy_texta0b398c5db23e7d9d7e79fc9207cc1e2 = 'v&#111;rst&#
 97;nd' + '&#64;' + 'lkv-l&#117;&#101;b&#101;ck' + '&#46;' + 'd&#101;';docum
 ent.getElementById('cloaka0b398c5db23e7d9d7e79fc9207cc1e2').innerHTML += '<
 a ' + path + '\'' + prefix + ':' + addya0b398c5db23e7d9d7e79fc9207cc1e2 + '
 \'>'+addy_texta0b398c5db23e7d9d7e79fc9207cc1e2+'';
		\n
X-ALT-DESC;FMTTYPE=text/html:<p>Baum- und Strauchschnittarbeiten</p><p>bitte anmelden unter <span id="cl
 oaka0b398c5db23e7d9d7e79fc9207cc1e2">Diese E-Mail-Adresse ist vor Spambots 
 geschützt! Zur Anzeige muss JavaScript eingeschaltet sein!</span><script ty
 pe='text/javascript'>
				document.getElementById('cloaka0b398c5db23e7d9d7e
 79fc9207cc1e2').innerHTML = '';
				var prefix = '&#109;a' + 'i&#108;' + '&
 #116;o';
				var path = 'hr' + 'ef' + '=';
				var addya0b398c5db23e7d9d7e7
 9fc9207cc1e2 = 'v&#111;rst&#97;nd' + '&#64;';
				addya0b398c5db23e7d9d7e79
 fc9207cc1e2 = addya0b398c5db23e7d9d7e79fc9207cc1e2 + 'lkv-l&#117;&#101;b&#1
 01;ck' + '&#46;' + 'd&#101;';
				var addy_texta0b398c5db23e7d9d7e79fc9207c
 c1e2 = 'v&#111;rst&#97;nd' + '&#64;' + 'lkv-l&#117;&#101;b&#101;ck' + '&#46
 ;' + 'd&#101;';document.getElementById('cloaka0b398c5db23e7d9d7e79fc9207cc1
 e2').innerHTML += '<a ' + path + '\'' + prefix + ':' + addya0b398c5db23e7d9
 d7e79fc9207cc1e2 + '\'>'+addy_texta0b398c5db23e7d9d7e79fc9207cc1e2+'<\/a>';
 
		</script></p>
CONTACT:Jörg Gaußing
DTSTAMP:20260424T083000Z
DTSTART;TZID=Europe/Berlin:20210828T090000
DTEND;TZID=Europe/Berlin:20210828T130000
SEQUENCE:0
TRANSP:OPAQUE
END:VEVENT
END:VCALENDAR