BEGIN:VCALENDAR
VERSION:2.0
PRODID:-//jEvents 2.0 for Joomla//EN
CALSCALE:GREGORIAN
METHOD:PUBLISH
BEGIN:VTIMEZONE
TZID:Europe/Berlin
BEGIN:STANDARD
DTSTART:20201025T020000
RDATE:20210328T030000
TZOFFSETFROM:+0200
TZOFFSETTO:+0100
TZNAME:Europe/Berlin CET
END:STANDARD
BEGIN:STANDARD
DTSTART:20211031T020000
RDATE:20220327T030000
TZOFFSETFROM:+0200
TZOFFSETTO:+0100
TZNAME:Europe/Berlin CET
END:STANDARD
BEGIN:STANDARD
DTSTART:20221030T020000
RDATE:20230326T030000
TZOFFSETFROM:+0200
TZOFFSETTO:+0100
TZNAME:Europe/Berlin CET
END:STANDARD
BEGIN:STANDARD
DTSTART:20231029T020000
RDATE:20240331T030000
TZOFFSETFROM:+0200
TZOFFSETTO:+0100
TZNAME:Europe/Berlin CET
END:STANDARD
BEGIN:STANDARD
DTSTART:20241027T020000
RDATE:20250330T030000
TZOFFSETFROM:+0200
TZOFFSETTO:+0100
TZNAME:Europe/Berlin CET
END:STANDARD
BEGIN:STANDARD
DTSTART:20251026T020000
RDATE:20260329T030000
TZOFFSETFROM:+0200
TZOFFSETTO:+0100
TZNAME:Europe/Berlin CET
END:STANDARD
BEGIN:STANDARD
DTSTART:20261025T020000
RDATE:20270328T030000
TZOFFSETFROM:+0200
TZOFFSETTO:+0100
TZNAME:Europe/Berlin CET
END:STANDARD
BEGIN:STANDARD
DTSTART:20271031T020000
RDATE:20280326T030000
TZOFFSETFROM:+0200
TZOFFSETTO:+0100
TZNAME:Europe/Berlin CET
END:STANDARD
BEGIN:DAYLIGHT
DTSTART:20200925T120000
RDATE:20201025T020000
TZOFFSETFROM:+0100
TZOFFSETTO:+0200
TZNAME:Europe/Berlin CEST
END:DAYLIGHT
BEGIN:DAYLIGHT
DTSTART:20210328T030000
RDATE:20211031T020000
TZOFFSETFROM:+0100
TZOFFSETTO:+0200
TZNAME:Europe/Berlin CEST
END:DAYLIGHT
BEGIN:DAYLIGHT
DTSTART:20220327T030000
RDATE:20221030T020000
TZOFFSETFROM:+0100
TZOFFSETTO:+0200
TZNAME:Europe/Berlin CEST
END:DAYLIGHT
BEGIN:DAYLIGHT
DTSTART:20230326T030000
RDATE:20231029T020000
TZOFFSETFROM:+0100
TZOFFSETTO:+0200
TZNAME:Europe/Berlin CEST
END:DAYLIGHT
BEGIN:DAYLIGHT
DTSTART:20240331T030000
RDATE:20241027T020000
TZOFFSETFROM:+0100
TZOFFSETTO:+0200
TZNAME:Europe/Berlin CEST
END:DAYLIGHT
BEGIN:DAYLIGHT
DTSTART:20250330T030000
RDATE:20251026T020000
TZOFFSETFROM:+0100
TZOFFSETTO:+0200
TZNAME:Europe/Berlin CEST
END:DAYLIGHT
BEGIN:DAYLIGHT
DTSTART:20260329T030000
RDATE:20261025T020000
TZOFFSETFROM:+0100
TZOFFSETTO:+0200
TZNAME:Europe/Berlin CEST
END:DAYLIGHT
BEGIN:DAYLIGHT
DTSTART:20270328T030000
RDATE:20271031T020000
TZOFFSETFROM:+0100
TZOFFSETTO:+0200
TZNAME:Europe/Berlin CEST
END:DAYLIGHT
END:VTIMEZONE
BEGIN:VEVENT
UID:a303ba4f983e5f586e178c219d8c5bd8
CATEGORIES:Vereinstermin
CREATED:20210906T135546
SUMMARY:Absegeln
LOCATION:Brücke Sarau
DESCRIPTION:Heute findet das gemeinsame Absegeln am Streg Rothenhusen statt. Auch alle 
 PAddler sind hierzu herzlich eingeladen.\nAnmeldung bitte unter Diese E-Mai
 l-Adresse ist vor Spambots geschützt! Zur Anzeige muss JavaScript eingescha
 ltet sein!
				document.getElementById('cloak6bc3c443fa71ee99b1b4c3d6ebd189
 10').innerHTML = '';
				var prefix = '&#109;a' + 'i&#108;' + '&#116;o';
		
 		var path = 'hr' + 'ef' + '=';
				var addy6bc3c443fa71ee99b1b4c3d6ebd1891
 0 = 's&#101;g&#101;ln' + '&#64;';
				addy6bc3c443fa71ee99b1b4c3d6ebd18910 
 = addy6bc3c443fa71ee99b1b4c3d6ebd18910 + 'lkv-l&#117;&#101;b&#101;ck' + '&#
 46;' + 'd&#101;';
				var addy_text6bc3c443fa71ee99b1b4c3d6ebd18910 = 's&#1
 01;g&#101;ln' + '&#64;' + 'lkv-l&#117;&#101;b&#101;ck' + '&#46;' + 'd&#101;
 ';document.getElementById('cloak6bc3c443fa71ee99b1b4c3d6ebd18910').innerHTM
 L += '<a ' + path + '\'' + prefix + ':' + addy6bc3c443fa71ee99b1b4c3d6ebd18
 910 + '\'>'+addy_text6bc3c443fa71ee99b1b4c3d6ebd18910+'';
		\n
X-ALT-DESC;FMTTYPE=text/html:<p>Heute findet das gemeinsame Absegeln am Streg Rothenhusen statt. Auch al
 le PAddler sind hierzu herzlich eingeladen.</p><p>Anmeldung bitte unter <sp
 an id="cloak6bc3c443fa71ee99b1b4c3d6ebd18910">Diese E-Mail-Adresse ist vor 
 Spambots geschützt! Zur Anzeige muss JavaScript eingeschaltet sein!</span><
 script type='text/javascript'>
				document.getElementById('cloak6bc3c443fa
 71ee99b1b4c3d6ebd18910').innerHTML = '';
				var prefix = '&#109;a' + 'i&#1
 08;' + '&#116;o';
				var path = 'hr' + 'ef' + '=';
				var addy6bc3c443fa7
 1ee99b1b4c3d6ebd18910 = 's&#101;g&#101;ln' + '&#64;';
				addy6bc3c443fa71e
 e99b1b4c3d6ebd18910 = addy6bc3c443fa71ee99b1b4c3d6ebd18910 + 'lkv-l&#117;&#
 101;b&#101;ck' + '&#46;' + 'd&#101;';
				var addy_text6bc3c443fa71ee99b1b4
 c3d6ebd18910 = 's&#101;g&#101;ln' + '&#64;' + 'lkv-l&#117;&#101;b&#101;ck' 
 + '&#46;' + 'd&#101;';document.getElementById('cloak6bc3c443fa71ee99b1b4c3d
 6ebd18910').innerHTML += '<a ' + path + '\'' + prefix + ':' + addy6bc3c443f
 a71ee99b1b4c3d6ebd18910 + '\'>'+addy_text6bc3c443fa71ee99b1b4c3d6ebd18910+'
 <\/a>';
		</script></p>
CONTACT:Sönke Dreyer
DTSTAMP:20260424T112122Z
DTSTART;TZID=Europe/Berlin:20210926T120000
SEQUENCE:0
TRANSP:OPAQUE
END:VEVENT
END:VCALENDAR