BEGIN:VCALENDAR
VERSION:2.0
PRODID:-//jEvents 2.0 for Joomla//EN
CALSCALE:GREGORIAN
METHOD:PUBLISH
BEGIN:VTIMEZONE
TZID:Europe/Berlin
BEGIN:STANDARD
DTSTART:20201025T020000
RDATE:20210328T030000
TZOFFSETFROM:+0200
TZOFFSETTO:+0100
TZNAME:Europe/Berlin CET
END:STANDARD
BEGIN:STANDARD
DTSTART:20211031T020000
RDATE:20220327T030000
TZOFFSETFROM:+0200
TZOFFSETTO:+0100
TZNAME:Europe/Berlin CET
END:STANDARD
BEGIN:STANDARD
DTSTART:20221030T020000
RDATE:20230326T030000
TZOFFSETFROM:+0200
TZOFFSETTO:+0100
TZNAME:Europe/Berlin CET
END:STANDARD
BEGIN:STANDARD
DTSTART:20231029T020000
RDATE:20240331T030000
TZOFFSETFROM:+0200
TZOFFSETTO:+0100
TZNAME:Europe/Berlin CET
END:STANDARD
BEGIN:STANDARD
DTSTART:20241027T020000
RDATE:20250330T030000
TZOFFSETFROM:+0200
TZOFFSETTO:+0100
TZNAME:Europe/Berlin CET
END:STANDARD
BEGIN:STANDARD
DTSTART:20251026T020000
RDATE:20260329T030000
TZOFFSETFROM:+0200
TZOFFSETTO:+0100
TZNAME:Europe/Berlin CET
END:STANDARD
BEGIN:STANDARD
DTSTART:20261025T020000
RDATE:20270328T030000
TZOFFSETFROM:+0200
TZOFFSETTO:+0100
TZNAME:Europe/Berlin CET
END:STANDARD
BEGIN:STANDARD
DTSTART:20271031T020000
RDATE:20280326T030000
TZOFFSETFROM:+0200
TZOFFSETTO:+0100
TZNAME:Europe/Berlin CET
END:STANDARD
BEGIN:DAYLIGHT
DTSTART:20201016T100000
RDATE:20201025T020000
TZOFFSETFROM:+0100
TZOFFSETTO:+0200
TZNAME:Europe/Berlin CEST
END:DAYLIGHT
BEGIN:DAYLIGHT
DTSTART:20210328T030000
RDATE:20211031T020000
TZOFFSETFROM:+0100
TZOFFSETTO:+0200
TZNAME:Europe/Berlin CEST
END:DAYLIGHT
BEGIN:DAYLIGHT
DTSTART:20220327T030000
RDATE:20221030T020000
TZOFFSETFROM:+0100
TZOFFSETTO:+0200
TZNAME:Europe/Berlin CEST
END:DAYLIGHT
BEGIN:DAYLIGHT
DTSTART:20230326T030000
RDATE:20231029T020000
TZOFFSETFROM:+0100
TZOFFSETTO:+0200
TZNAME:Europe/Berlin CEST
END:DAYLIGHT
BEGIN:DAYLIGHT
DTSTART:20240331T030000
RDATE:20241027T020000
TZOFFSETFROM:+0100
TZOFFSETTO:+0200
TZNAME:Europe/Berlin CEST
END:DAYLIGHT
BEGIN:DAYLIGHT
DTSTART:20250330T030000
RDATE:20251026T020000
TZOFFSETFROM:+0100
TZOFFSETTO:+0200
TZNAME:Europe/Berlin CEST
END:DAYLIGHT
BEGIN:DAYLIGHT
DTSTART:20260329T030000
RDATE:20261025T020000
TZOFFSETFROM:+0100
TZOFFSETTO:+0200
TZNAME:Europe/Berlin CEST
END:DAYLIGHT
BEGIN:DAYLIGHT
DTSTART:20270328T030000
RDATE:20271031T020000
TZOFFSETFROM:+0100
TZOFFSETTO:+0200
TZNAME:Europe/Berlin CEST
END:DAYLIGHT
END:VTIMEZONE
BEGIN:VEVENT
UID:cf7d2f893d3d95a17afdf36a793b8906
CATEGORIES:Vereinstermin
CREATED:20211005T094817
SUMMARY:Gemeinsames Abpaddeln
DESCRIPTION:Einladung zum gemeinsamen Abpaddeln \nam Sonntag, den 17.Oktober 2021\nals 
 Freiluftveranstaltung\n \nLiebe Mitglieder der Kanurennsport- und Kanuwande
 rgruppe,\n \nherzlich laden wir Euch zum diesjährigen Abpaddeln am 17.Oktob
 er 2021 um 10 Uhr am LKV Bootssteak ein.\n \nGeplant ist ein gemeinsames Pa
 ddeln vom Bootshaus nach Spieringshorst und zurück mit anschliessenden geme
 insamen Grillen an der Anglerhütte.\n \nAblauf: \n \n10:00 Uhr: Start am LK
 V Bootssteak und eine gemütliche Umrundung von Spieringshorst.\nWer möchte 
 und noch genügend Kraft und Ausdauer hat, darf natürlich gerne weiter nach 
 Müggenbusch oder Absalonshorst fahren.\n \n12:30 Uhr: Gemeinsames Beisammen
 sitzen und Grillen auf dem Vereinsgelände.\n \nFür Grillfleisch, Bratwurst,
  Nudelsalat und Getränke wird von uns gesorgt.\n(Bitte bei der Anmeldung an
 geben). \nHierfür bitten wir um einen Unkostenbeitrag von € 3,- pro Erwachs
 en (Kinder kostenfrei).\n \nFür den Auf- und Abbau und die Grillbetreuung w
 erden noch helfende Hände benötigt.\n \nDamit Corona keine Chance im LKV ha
 t, bitte wir die Corona 3-G-Regel zu beachten.\n \nUm Planen zu können, bit
 te um Anmeldung mit Grillgutwünschen (Geflügelsteak, Nackensteak, Geflügelb
 ratwurst,Thüringer, Veg. Bratwurst, Grillkäse) bis Donnerstag, den 14.10.21
  an Diese E-Mail-Adresse ist vor Spambots geschützt! Zur Anzeige muss JavaS
 cript eingeschaltet sein!
				document.getElementById('cloak7c918e0b5ff85d6
 c1ab788878a568f58').innerHTML = '';
				var prefix = '&#109;a' + 'i&#108;' 
 + '&#116;o';
				var path = 'hr' + 'ef' + '=';
				var addy7c918e0b5ff85d6c
 1ab788878a568f58 = 'k&#97;n&#117;w&#97;nd&#101;rn' + '&#64;';
				addy7c918
 e0b5ff85d6c1ab788878a568f58 = addy7c918e0b5ff85d6c1ab788878a568f58 + 'lkv-l
 &#117;&#101;b&#101;ck' + '&#46;' + 'd&#101;';
				var addy_text7c918e0b5ff8
 5d6c1ab788878a568f58 = 'k&#97;n&#117;w&#97;nd&#101;rn' + '&#64;' + 'lkv-l&#
 117;&#101;b&#101;ck' + '&#46;' + 'd&#101;';document.getElementById('cloak7c
 918e0b5ff85d6c1ab788878a568f58').innerHTML += '<a ' + path + '\'' + prefix 
 + ':' + addy7c918e0b5ff85d6c1ab788878a568f58 + '\'>'+addy_text7c918e0b5ff85
 d6c1ab788878a568f58+'';
		.\n \nMit paddelsportlichen Grüssen\n \nFalk (Tra
 iner Kanurennsport)\nJohn (Fachwart Kanuwandern)\n
X-ALT-DESC;FMTTYPE=text/html:<p style="margin-bottom: 0cm; text-align: center;" align="center"><b><span 
 style="font-size: 24.0pt;">Einladung zum gemeinsamen Abpaddeln </span></b><
 /p><p style="margin-bottom: 0cm; text-align: center;" align="center"><b><sp
 an style="font-size: 24.0pt;">am Sonntag, den 17.Oktober 2021</span></b></p
 ><p style="margin-bottom: 0cm; text-align: center;" align="center"><b><span
  style="font-size: 24.0pt;">als Freiluftveranstaltung</span></b></p><p styl
 e="margin-bottom: 0cm;"> </p><p style="margin-bottom: 0cm;">L<span style="f
 ont-size: 13.0pt;">iebe Mitglieder der Kanurennsport- und Kanuwandergruppe,
 </span></p><p style="margin-bottom: 0cm;"> </p><p style="margin-bottom: 0cm
 ;"><span style="font-size: 13.0pt;">herzlich laden wir Euch zum diesjährige
 n Abpaddeln am <b>17.Oktober 2021 um 10 Uhr </b>am LKV Bootssteak ein.</spa
 n></p><p style="margin-bottom: 0cm;"> </p><p style="margin-bottom: 0cm;"><s
 pan style="font-size: 13.0pt;">Geplant ist ein gemeinsames Paddeln vom Boot
 shaus nach Spieringshorst und zurück mit anschliessenden gemeinsamen Grille
 n an der Anglerhütte.</span></p><p style="margin-bottom: 0cm;"> </p><p styl
 e="margin-bottom: 0cm;"><span style="font-size: 13.0pt;">Ablauf: </span></p
 ><p style="margin-bottom: 0cm;"> </p><p style="margin-bottom: 0cm;"><b><spa
 n style="font-size: 13.0pt;">10:00 Uhr:</span></b><span style="font-size: 1
 3.0pt;"> Start am LKV Bootssteak und eine gemütliche Umrundung von Spiering
 shorst.</span></p><p style="margin-bottom: 0cm;"><span style="font-size: 13
 .0pt;">Wer möchte und noch genügend Kraft und Ausdauer hat, darf natürlich 
 gerne weiter nach Müggenbusch oder Absalonshorst fahren.</span></p><p style
 ="margin-bottom: 0cm;"> </p><p style="margin-bottom: 0cm;"><b><span style="
 font-size: 13.0pt;">12:30 Uhr:</span></b><span style="font-size: 13.0pt;"> 
 Gemeinsames Beisammensitzen und Grillen auf dem Vereinsgelände.</span></p><
 p style="margin-bottom: 0cm;"> </p><p style="margin-bottom: 0cm;"><span sty
 le="font-size: 13.0pt;">Für Grillfleisch, Bratwurst, Nudelsalat und Getränk
 e wird von uns gesorgt.</span></p><p style="margin-bottom: 0cm;"><span styl
 e="font-size: 13.0pt;">(Bitte bei der Anmeldung angeben). </span></p><p sty
 le="margin-bottom: 0cm;"><span style="font-size: 13.0pt;">Hierfür bitten wi
 r um einen Unkostenbeitrag von € 3,- pro Erwachsen (Kinder kostenfrei).</sp
 an></p><p style="margin-bottom: 0cm;"> </p><p style="margin-bottom: 0cm;"><
 span style="font-size: 13.0pt;">Für den Auf- und Abbau und die Grillbetreuu
 ng werden noch helfende Hände benötigt.</span></p><p style="margin-bottom: 
 0cm;"> </p><p style="margin-bottom: 0cm;"><b><span style="font-size: 13.0pt
 ;">Damit Corona keine Chance im LKV hat, bitte wir die Corona 3-G-Regel zu 
 beachten.</span></b></p><p style="margin-bottom: 0cm;"> </p><p style="margi
 n-bottom: 0cm;"><span style="font-size: 13.0pt;">Um Planen zu können, bitte
  um Anmeldung mit Grillgutwünschen (Geflügelsteak, Nackensteak, Geflügelbra
 twurst,Thüringer, Veg. Bratwurst, Grillkäse) bis Donnerstag, den 14.10.21 a
 n <span id="cloak7c918e0b5ff85d6c1ab788878a568f58">Diese E-Mail-Adresse ist
  vor Spambots geschützt! Zur Anzeige muss JavaScript eingeschaltet sein!</s
 pan><script type='text/javascript'>
				document.getElementById('cloak7c918
 e0b5ff85d6c1ab788878a568f58').innerHTML = '';
				var prefix = '&#109;a' + 
 'i&#108;' + '&#116;o';
				var path = 'hr' + 'ef' + '=';
				var addy7c918e
 0b5ff85d6c1ab788878a568f58 = 'k&#97;n&#117;w&#97;nd&#101;rn' + '&#64;';
			
 	addy7c918e0b5ff85d6c1ab788878a568f58 = addy7c918e0b5ff85d6c1ab788878a568f5
 8 + 'lkv-l&#117;&#101;b&#101;ck' + '&#46;' + 'd&#101;';
				var addy_text7c
 918e0b5ff85d6c1ab788878a568f58 = 'k&#97;n&#117;w&#97;nd&#101;rn' + '&#64;' 
 + 'lkv-l&#117;&#101;b&#101;ck' + '&#46;' + 'd&#101;';document.getElementByI
 d('cloak7c918e0b5ff85d6c1ab788878a568f58').innerHTML += '<a ' + path + '\''
  + prefix + ':' + addy7c918e0b5ff85d6c1ab788878a568f58 + '\'>'+addy_text7c9
 18e0b5ff85d6c1ab788878a568f58+'<\/a>';
		</script>.</span></p><p style="mar
 gin-bottom: 0cm;"> </p><p style="margin-bottom: 0cm;"><span style="font-siz
 e: 13.0pt;">Mit paddelsportlichen Grüssen</span></p><p style="margin-bottom
 : 0cm;"> </p><p style="margin-bottom: 0cm;"><span style="font-size: 13.0pt;
 ">Falk (Trainer Kanurennsport)</span></p><p style="margin-bottom: 0cm;"><sp
 an style="font-size: 13.0pt;">John (Fachwart Kanuwandern)</span></p>
DTSTAMP:20260423T194044Z
DTSTART;TZID=Europe/Berlin:20211017T100000
SEQUENCE:0
TRANSP:OPAQUE
END:VEVENT
END:VCALENDAR