BEGIN:VCALENDAR
VERSION:2.0
PRODID:-//jEvents 2.0 for Joomla//EN
CALSCALE:GREGORIAN
METHOD:PUBLISH
BEGIN:VTIMEZONE
TZID:Europe/Berlin
BEGIN:STANDARD
DTSTART:20201203T130000
RDATE:20210328T030000
TZOFFSETFROM:+0200
TZOFFSETTO:+0100
TZNAME:Europe/Berlin CET
END:STANDARD
BEGIN:STANDARD
DTSTART:20211031T020000
RDATE:20220327T030000
TZOFFSETFROM:+0200
TZOFFSETTO:+0100
TZNAME:Europe/Berlin CET
END:STANDARD
BEGIN:STANDARD
DTSTART:20221030T020000
RDATE:20230326T030000
TZOFFSETFROM:+0200
TZOFFSETTO:+0100
TZNAME:Europe/Berlin CET
END:STANDARD
BEGIN:STANDARD
DTSTART:20231029T020000
RDATE:20240331T030000
TZOFFSETFROM:+0200
TZOFFSETTO:+0100
TZNAME:Europe/Berlin CET
END:STANDARD
BEGIN:STANDARD
DTSTART:20241027T020000
RDATE:20250330T030000
TZOFFSETFROM:+0200
TZOFFSETTO:+0100
TZNAME:Europe/Berlin CET
END:STANDARD
BEGIN:STANDARD
DTSTART:20251026T020000
RDATE:20260329T030000
TZOFFSETFROM:+0200
TZOFFSETTO:+0100
TZNAME:Europe/Berlin CET
END:STANDARD
BEGIN:STANDARD
DTSTART:20261025T020000
RDATE:20270328T030000
TZOFFSETFROM:+0200
TZOFFSETTO:+0100
TZNAME:Europe/Berlin CET
END:STANDARD
BEGIN:STANDARD
DTSTART:20271031T020000
RDATE:20280326T030000
TZOFFSETFROM:+0200
TZOFFSETTO:+0100
TZNAME:Europe/Berlin CET
END:STANDARD
BEGIN:DAYLIGHT
DTSTART:20210328T030000
RDATE:20211031T020000
TZOFFSETFROM:+0100
TZOFFSETTO:+0200
TZNAME:Europe/Berlin CEST
END:DAYLIGHT
BEGIN:DAYLIGHT
DTSTART:20220327T030000
RDATE:20221030T020000
TZOFFSETFROM:+0100
TZOFFSETTO:+0200
TZNAME:Europe/Berlin CEST
END:DAYLIGHT
BEGIN:DAYLIGHT
DTSTART:20230326T030000
RDATE:20231029T020000
TZOFFSETFROM:+0100
TZOFFSETTO:+0200
TZNAME:Europe/Berlin CEST
END:DAYLIGHT
BEGIN:DAYLIGHT
DTSTART:20240331T030000
RDATE:20241027T020000
TZOFFSETFROM:+0100
TZOFFSETTO:+0200
TZNAME:Europe/Berlin CEST
END:DAYLIGHT
BEGIN:DAYLIGHT
DTSTART:20250330T030000
RDATE:20251026T020000
TZOFFSETFROM:+0100
TZOFFSETTO:+0200
TZNAME:Europe/Berlin CEST
END:DAYLIGHT
BEGIN:DAYLIGHT
DTSTART:20260329T030000
RDATE:20261025T020000
TZOFFSETFROM:+0100
TZOFFSETTO:+0200
TZNAME:Europe/Berlin CEST
END:DAYLIGHT
BEGIN:DAYLIGHT
DTSTART:20270328T030000
RDATE:20271031T020000
TZOFFSETFROM:+0100
TZOFFSETTO:+0200
TZNAME:Europe/Berlin CEST
END:DAYLIGHT
END:VTIMEZONE
BEGIN:VEVENT
UID:0a758ba94cfeee35d8fdc74726e77de5
CATEGORIES:Segeln
CREATED:20211008T105335
SUMMARY:Stegweihnachtsfeier
LOCATION:Brücke Sarau
DESCRIPTION: Kleine Stegweihnachtsfeier am Ratzeburger See am Samstag, 04.Dezember 2021
 , 13 Uhr  bei Lagerfeuer, Erbsensuppe , Punsch und Schrottwichteln. \nBitte
  Besteck und Tassen mitbringen. Wichtelgeschenk in Zeitungspapier verpackt 
 – Max. 6 Euro.\nBitte Anmeldungen bis zum 28. November unter Diese E-Mail-A
 dresse ist vor Spambots geschützt! Zur Anzeige muss JavaScript eingeschalte
 t sein!
				document.getElementById('cloak5114f9341a2ba33fbea3e0241f4609e6'
 ).innerHTML = '';
				var prefix = '&#109;a' + 'i&#108;' + '&#116;o';
				v
 ar path = 'hr' + 'ef' + '=';
				var addy5114f9341a2ba33fbea3e0241f4609e6 =
  's&#101;g&#101;ln' + '&#64;';
				addy5114f9341a2ba33fbea3e0241f4609e6 = a
 ddy5114f9341a2ba33fbea3e0241f4609e6 + 'lkv-s&#101;g&#101;ln' + '&#46;' + 'd
 &#101;';
				var addy_text5114f9341a2ba33fbea3e0241f4609e6 = 's&#101;g&#101
 ;ln' + '&#64;' + 'lkv-s&#101;g&#101;ln' + '&#46;' + 'd&#101;';document.getE
 lementById('cloak5114f9341a2ba33fbea3e0241f4609e6').innerHTML += '<a ' + pa
 th + '\'' + prefix + ':' + addy5114f9341a2ba33fbea3e0241f4609e6 + '\'>'+add
 y_text5114f9341a2ba33fbea3e0241f4609e6+'';
		\n
X-ALT-DESC;FMTTYPE=text/html:<p> Kleine <strong>Stegweihnachtsfeier</strong> am Ratzeburger See am Samst
 ag, <strong>04.Dezember 2021</strong>, 13 Uhr  bei Lagerfeuer, Erbsensuppe 
 , Punsch und Schrottwichteln. </p><p>Bitte Besteck und Tassen mitbringen. W
 ichtelgeschenk in Zeitungspapier verpackt – Max. 6 Euro.</p><p>Bitte Anmeld
 ungen bis zum 28. November unter <span id="cloak5114f9341a2ba33fbea3e0241f4
 609e6">Diese E-Mail-Adresse ist vor Spambots geschützt! Zur Anzeige muss Ja
 vaScript eingeschaltet sein!</span><script type='text/javascript'>
				docu
 ment.getElementById('cloak5114f9341a2ba33fbea3e0241f4609e6').innerHTML = ''
 ;
				var prefix = '&#109;a' + 'i&#108;' + '&#116;o';
				var path = 'hr' +
  'ef' + '=';
				var addy5114f9341a2ba33fbea3e0241f4609e6 = 's&#101;g&#101;
 ln' + '&#64;';
				addy5114f9341a2ba33fbea3e0241f4609e6 = addy5114f9341a2ba
 33fbea3e0241f4609e6 + 'lkv-s&#101;g&#101;ln' + '&#46;' + 'd&#101;';
				var
  addy_text5114f9341a2ba33fbea3e0241f4609e6 = 's&#101;g&#101;ln' + '&#64;' +
  'lkv-s&#101;g&#101;ln' + '&#46;' + 'd&#101;';document.getElementById('cloa
 k5114f9341a2ba33fbea3e0241f4609e6').innerHTML += '<a ' + path + '\'' + pref
 ix + ':' + addy5114f9341a2ba33fbea3e0241f4609e6 + '\'>'+addy_text5114f9341a
 2ba33fbea3e0241f4609e6+'<\/a>';
		</script></p>
CONTACT:Sönke Dreyer
DTSTAMP:20260423T203935Z
DTSTART;TZID=Europe/Berlin:20211204T130000
SEQUENCE:0
TRANSP:OPAQUE
END:VEVENT
END:VCALENDAR