BEGIN:VCALENDAR
VERSION:2.0
PRODID:-//jEvents 2.0 for Joomla//EN
CALSCALE:GREGORIAN
METHOD:PUBLISH
BEGIN:VTIMEZONE
TZID:Europe/Berlin
BEGIN:STANDARD
DTSTART:20211031T020000
RDATE:20220327T030000
TZOFFSETFROM:+0200
TZOFFSETTO:+0100
TZNAME:Europe/Berlin CET
END:STANDARD
BEGIN:STANDARD
DTSTART:20221030T020000
RDATE:20230326T030000
TZOFFSETFROM:+0200
TZOFFSETTO:+0100
TZNAME:Europe/Berlin CET
END:STANDARD
BEGIN:STANDARD
DTSTART:20231029T020000
RDATE:20240331T030000
TZOFFSETFROM:+0200
TZOFFSETTO:+0100
TZNAME:Europe/Berlin CET
END:STANDARD
BEGIN:STANDARD
DTSTART:20241027T020000
RDATE:20250330T030000
TZOFFSETFROM:+0200
TZOFFSETTO:+0100
TZNAME:Europe/Berlin CET
END:STANDARD
BEGIN:STANDARD
DTSTART:20251026T020000
RDATE:20260329T030000
TZOFFSETFROM:+0200
TZOFFSETTO:+0100
TZNAME:Europe/Berlin CET
END:STANDARD
BEGIN:STANDARD
DTSTART:20261025T020000
RDATE:20270328T030000
TZOFFSETFROM:+0200
TZOFFSETTO:+0100
TZNAME:Europe/Berlin CET
END:STANDARD
BEGIN:STANDARD
DTSTART:20271031T020000
RDATE:20280326T030000
TZOFFSETFROM:+0200
TZOFFSETTO:+0100
TZNAME:Europe/Berlin CET
END:STANDARD
BEGIN:DAYLIGHT
DTSTART:20210513T090000
RDATE:20211031T020000
TZOFFSETFROM:+0100
TZOFFSETTO:+0200
TZNAME:Europe/Berlin CEST
END:DAYLIGHT
BEGIN:DAYLIGHT
DTSTART:20220327T030000
RDATE:20221030T020000
TZOFFSETFROM:+0100
TZOFFSETTO:+0200
TZNAME:Europe/Berlin CEST
END:DAYLIGHT
BEGIN:DAYLIGHT
DTSTART:20230326T030000
RDATE:20231029T020000
TZOFFSETFROM:+0100
TZOFFSETTO:+0200
TZNAME:Europe/Berlin CEST
END:DAYLIGHT
BEGIN:DAYLIGHT
DTSTART:20240331T030000
RDATE:20241027T020000
TZOFFSETFROM:+0100
TZOFFSETTO:+0200
TZNAME:Europe/Berlin CEST
END:DAYLIGHT
BEGIN:DAYLIGHT
DTSTART:20250330T030000
RDATE:20251026T020000
TZOFFSETFROM:+0100
TZOFFSETTO:+0200
TZNAME:Europe/Berlin CEST
END:DAYLIGHT
BEGIN:DAYLIGHT
DTSTART:20260329T030000
RDATE:20261025T020000
TZOFFSETFROM:+0100
TZOFFSETTO:+0200
TZNAME:Europe/Berlin CEST
END:DAYLIGHT
BEGIN:DAYLIGHT
DTSTART:20270328T030000
RDATE:20271031T020000
TZOFFSETFROM:+0100
TZOFFSETTO:+0200
TZNAME:Europe/Berlin CEST
END:DAYLIGHT
END:VTIMEZONE
BEGIN:VEVENT
UID:d1cd93893f9127c0780c7dd3aa0b3c74
CATEGORIES:Vereinstermin
CREATED:20220504T113354
SUMMARY:Arbeitsdienst am 14.05.2022
LOCATION:Bootshaus
DESCRIPTION:Arbeitsdienst am 14.05.2022 am Bootshaus. Start: 9:00 Uhr\nHier benötigt Jö
 rg Gaußing ca. 8 (kräftige) Personen für allgemeine Arbeiten und u,a, das V
 erschieben und Auslagern eines Großbootes.\nAnmeldung bitte unter Diese E-M
 ail-Adresse ist vor Spambots geschützt! Zur Anzeige muss JavaScript eingesc
 haltet sein!
				document.getElementById('cloak04cbd2cdd92b24a3b27dda91da77
 cbc3').innerHTML = '';
				var prefix = '&#109;a' + 'i&#108;' + '&#116;o';

 				var path = 'hr' + 'ef' + '=';
				var addy04cbd2cdd92b24a3b27dda91da77c
 bc3 = 'v&#111;rst&#97;nd' + '&#64;';
				addy04cbd2cdd92b24a3b27dda91da77cb
 c3 = addy04cbd2cdd92b24a3b27dda91da77cbc3 + 'lkv-l&#117;&#101;b&#101;ck' + 
 '&#46;' + 'd&#101;';
				var addy_text04cbd2cdd92b24a3b27dda91da77cbc3 = 'v
 &#111;rst&#97;nd' + '&#64;' + 'lkv-l&#117;&#101;b&#101;ck' + '&#46;' + 'd&#
 101;';document.getElementById('cloak04cbd2cdd92b24a3b27dda91da77cbc3').inne
 rHTML += '<a ' + path + '\'' + prefix + ':' + addy04cbd2cdd92b24a3b27dda91d
 a77cbc3 + '\'>'+addy_text04cbd2cdd92b24a3b27dda91da77cbc3+'';
		\n
X-ALT-DESC;FMTTYPE=text/html:<p>Arbeitsdienst am 14.05.2022 am Bootshaus. Start: 9:00 Uhr</p><p>Hier ben
 ötigt Jörg Gaußing ca. 8 (kräftige) Personen für allgemeine Arbeiten und u,
 a, das Verschieben und Auslagern eines Großbootes.</p><p>Anmeldung bitte un
 ter <span id="cloak04cbd2cdd92b24a3b27dda91da77cbc3">Diese E-Mail-Adresse i
 st vor Spambots geschützt! Zur Anzeige muss JavaScript eingeschaltet sein!<
 /span><script type='text/javascript'>
				document.getElementById('cloak04c
 bd2cdd92b24a3b27dda91da77cbc3').innerHTML = '';
				var prefix = '&#109;a' 
 + 'i&#108;' + '&#116;o';
				var path = 'hr' + 'ef' + '=';
				var addy04cb
 d2cdd92b24a3b27dda91da77cbc3 = 'v&#111;rst&#97;nd' + '&#64;';
				addy04cbd
 2cdd92b24a3b27dda91da77cbc3 = addy04cbd2cdd92b24a3b27dda91da77cbc3 + 'lkv-l
 &#117;&#101;b&#101;ck' + '&#46;' + 'd&#101;';
				var addy_text04cbd2cdd92b
 24a3b27dda91da77cbc3 = 'v&#111;rst&#97;nd' + '&#64;' + 'lkv-l&#117;&#101;b&
 #101;ck' + '&#46;' + 'd&#101;';document.getElementById('cloak04cbd2cdd92b24
 a3b27dda91da77cbc3').innerHTML += '<a ' + path + '\'' + prefix + ':' + addy
 04cbd2cdd92b24a3b27dda91da77cbc3 + '\'>'+addy_text04cbd2cdd92b24a3b27dda91d
 a77cbc3+'<\/a>';
		</script></p>
CONTACT:Jörg Gaußing
DTSTAMP:20260423T173640Z
DTSTART;TZID=Europe/Berlin:20220514T090000
DTEND;TZID=Europe/Berlin:20220514T130000
SEQUENCE:0
TRANSP:OPAQUE
END:VEVENT
END:VCALENDAR