BEGIN:VCALENDAR
VERSION:2.0
PRODID:-//jEvents 2.0 for Joomla//EN
CALSCALE:GREGORIAN
METHOD:PUBLISH
BEGIN:VTIMEZONE
TZID:Europe/Berlin
BEGIN:STANDARD
DTSTART:20211031T020000
RDATE:20220327T030000
TZOFFSETFROM:+0200
TZOFFSETTO:+0100
TZNAME:Europe/Berlin CET
END:STANDARD
BEGIN:STANDARD
DTSTART:20221030T020000
RDATE:20230326T030000
TZOFFSETFROM:+0200
TZOFFSETTO:+0100
TZNAME:Europe/Berlin CET
END:STANDARD
BEGIN:STANDARD
DTSTART:20231029T020000
RDATE:20240331T030000
TZOFFSETFROM:+0200
TZOFFSETTO:+0100
TZNAME:Europe/Berlin CET
END:STANDARD
BEGIN:STANDARD
DTSTART:20241027T020000
RDATE:20250330T030000
TZOFFSETFROM:+0200
TZOFFSETTO:+0100
TZNAME:Europe/Berlin CET
END:STANDARD
BEGIN:STANDARD
DTSTART:20251026T020000
RDATE:20260329T030000
TZOFFSETFROM:+0200
TZOFFSETTO:+0100
TZNAME:Europe/Berlin CET
END:STANDARD
BEGIN:STANDARD
DTSTART:20261025T020000
RDATE:20270328T030000
TZOFFSETFROM:+0200
TZOFFSETTO:+0100
TZNAME:Europe/Berlin CET
END:STANDARD
BEGIN:STANDARD
DTSTART:20271031T020000
RDATE:20280326T030000
TZOFFSETFROM:+0200
TZOFFSETTO:+0100
TZNAME:Europe/Berlin CET
END:STANDARD
BEGIN:DAYLIGHT
DTSTART:20210610T090000
RDATE:20211031T020000
TZOFFSETFROM:+0100
TZOFFSETTO:+0200
TZNAME:Europe/Berlin CEST
END:DAYLIGHT
BEGIN:DAYLIGHT
DTSTART:20220327T030000
RDATE:20221030T020000
TZOFFSETFROM:+0100
TZOFFSETTO:+0200
TZNAME:Europe/Berlin CEST
END:DAYLIGHT
BEGIN:DAYLIGHT
DTSTART:20230326T030000
RDATE:20231029T020000
TZOFFSETFROM:+0100
TZOFFSETTO:+0200
TZNAME:Europe/Berlin CEST
END:DAYLIGHT
BEGIN:DAYLIGHT
DTSTART:20240331T030000
RDATE:20241027T020000
TZOFFSETFROM:+0100
TZOFFSETTO:+0200
TZNAME:Europe/Berlin CEST
END:DAYLIGHT
BEGIN:DAYLIGHT
DTSTART:20250330T030000
RDATE:20251026T020000
TZOFFSETFROM:+0100
TZOFFSETTO:+0200
TZNAME:Europe/Berlin CEST
END:DAYLIGHT
BEGIN:DAYLIGHT
DTSTART:20260329T030000
RDATE:20261025T020000
TZOFFSETFROM:+0100
TZOFFSETTO:+0200
TZNAME:Europe/Berlin CEST
END:DAYLIGHT
BEGIN:DAYLIGHT
DTSTART:20270328T030000
RDATE:20271031T020000
TZOFFSETFROM:+0100
TZOFFSETTO:+0200
TZNAME:Europe/Berlin CEST
END:DAYLIGHT
END:VTIMEZONE
BEGIN:VEVENT
UID:b79fb7f04c34df0385c214ee73030004
CATEGORIES:Vereinstermin
CREATED:20220603T084405
SUMMARY:Arbeitsdienst am Bootshaus
DESCRIPTION:<p>Arbeitsdienst am Bootshaus.</p><p>Geplante Arbeiten: Gartenarbeiten (u.a
 . Heckenschnitt), Dachrinnen reinigen, Bootswagen der Slipanlage einfetten 
 und am Hubwagen neue Räder anbauen.</p><p>Anmeldung bitte an <span id="cloa
 k721062ac2c3e6db075212048ba74cace">Diese E-Mail-Adresse ist vor Spambots ge
 schützt! Zur Anzeige muss JavaScript eingeschaltet sein!</span><script type
 ='text/javascript'>
				document.getElementById('cloak721062ac2c3e6db075212
 048ba74cace').innerHTML = '';
				var prefix = '&#109;a' + 'i&#108;' + '&#1
 16;o';
				var path = 'hr' + 'ef' + '=';
				var addy721062ac2c3e6db0752120
 48ba74cace = 'v&#111;rst&#97;nd' + '&#64;';
				addy721062ac2c3e6db07521204
 8ba74cace = addy721062ac2c3e6db075212048ba74cace + 'lkv-l&#117;&#101;b&#101
 ;ck' + '&#46;' + 'd&#101;';
				var addy_text721062ac2c3e6db075212048ba74ca
 ce = 'v&#111;rst&#97;nd' + '&#64;' + 'lkv-l&#117;&#101;b&#101;ck' + '&#46;'
  + 'd&#101;';document.getElementById('cloak721062ac2c3e6db075212048ba74cace
 ').innerHTML += '<a ' + path + '\'' + prefix + ':' + addy721062ac2c3e6db075
 212048ba74cace + '\'>'+addy_text721062ac2c3e6db075212048ba74cace+'<\/a>';
	
 	</script></p>
DTSTAMP:20260423T173030Z
DTSTART;TZID=Europe/Berlin:20220611T090000
DTEND;TZID=Europe/Berlin:20220611T130000
SEQUENCE:0
TRANSP:OPAQUE
END:VEVENT
END:VCALENDAR